BEGIN:VCALENDAR
VERSION:2.0
PRODID:-//FireSchool USA - ECPv6.15.20//NONSGML v1.0//EN
CALSCALE:GREGORIAN
METHOD:PUBLISH
X-ORIGINAL-URL:https://fireschoolusa.com
X-WR-CALDESC:Events for FireSchool USA
REFRESH-INTERVAL;VALUE=DURATION:PT1H
X-Robots-Tag:noindex
X-PUBLISHED-TTL:PT1H
BEGIN:VTIMEZONE
TZID:America/New_York
BEGIN:DAYLIGHT
TZOFFSETFROM:-0500
TZOFFSETTO:-0400
TZNAME:EDT
DTSTART:20190310T070000
END:DAYLIGHT
BEGIN:STANDARD
TZOFFSETFROM:-0400
TZOFFSETTO:-0500
TZNAME:EST
DTSTART:20191103T060000
END:STANDARD
BEGIN:DAYLIGHT
TZOFFSETFROM:-0500
TZOFFSETTO:-0400
TZNAME:EDT
DTSTART:20200308T070000
END:DAYLIGHT
BEGIN:STANDARD
TZOFFSETFROM:-0400
TZOFFSETTO:-0500
TZNAME:EST
DTSTART:20201101T060000
END:STANDARD
BEGIN:DAYLIGHT
TZOFFSETFROM:-0500
TZOFFSETTO:-0400
TZNAME:EDT
DTSTART:20210314T070000
END:DAYLIGHT
BEGIN:STANDARD
TZOFFSETFROM:-0400
TZOFFSETTO:-0500
TZNAME:EST
DTSTART:20211107T060000
END:STANDARD
END:VTIMEZONE
BEGIN:VEVENT
DTSTART;VALUE=DATE:20201014
DTEND;VALUE=DATE:20201019
DTSTAMP:20260425T111411
CREATED:20200806T165643Z
LAST-MODIFIED:20200806T165643Z
UID:2237-1602633600-1603065599@fireschoolusa.com
SUMMARY:PRESENCIAL - Bomberas de Corazón
DESCRIPTION:Por primera vez en México\, con certificación internacional por dos entidades de talla mundial “FIRE SCHOOL USA / MEXICO” Y LA “INTERNATIONAL FIRE ACADEMY” (IFA) impartirán el curso de Bomberas de Corazón. \nEl curso cumple con todos los requerimientos para cubrir el temario del curso “FIRE FIGHTING NIVEL 1”\, así como va en total apego a lo que hace mención el estándar de certificación EC 426.01 COMBATE Y EXTINCIÓN DE INCENDIOS ESTRUCTURALES. \nPor lo cual\, al término del curso\, tú podrás presentar el examen de certificado por parte de FIRE SCHOOL USA/MÉXICO y la IFA y aprobarlo\, o si lo deseas; también pueden buscar el centro evaluador de tu elección para presentarlo ante EL CONOCER.
URL:https://fireschoolusa.com/event/presencial-bomberas-de-corazon/
LOCATION:CENTRO DE ENTRENAMIENTO “INCAP”\, Av. Del trabajo 946\, Tepojaco\, Tizayuca\, Hidalgo\, 43810\, Mexico
ATTACH;FMTTYPE=image/png:https://fireschoolusa.com/wp-content/uploads/2020/08/Diseño-sin-título.png
END:VEVENT
BEGIN:VEVENT
DTSTART;TZID=America/New_York:20200914T190000
DTEND;TZID=America/New_York:20200925T213000
DTSTAMP:20260425T111411
CREATED:20200806T151703Z
LAST-MODIFIED:20200806T172538Z
UID:2225-1600110000-1601069400@fireschoolusa.com
SUMMARY:EN LINEA - Oficial de Seguridad y Salud - NFPA 1500/1521
DESCRIPTION:Esta es una capacitación diseñada para proporcionarle al participante las destrezas (conocimientos y habilidades) para su desempeño en Seguridad y Salud\, mediante la demostración de las competencias mínimas establecidas en conformidad con la norma NFPA 1521 Standard for Fire Department Safety Officer Professional Qualifications\, para desempeñar el rol Oficial de Seguridad y Salud. 
URL:https://fireschoolusa.com/event/hso/
LOCATION:SHA Latinoamerica\, Calle Elias Aguirre 180 Miraflores\, Lima\, Lima\, 15056\, Perú
ATTACH;FMTTYPE=image/png:https://fireschoolusa.com/wp-content/uploads/2020/08/Diseño-sin-título-3.png
END:VEVENT
BEGIN:VEVENT
DTSTART;TZID=America/New_York:20200901T190000
DTEND;TZID=America/New_York:20200911T203000
DTSTAMP:20260425T111411
CREATED:20200806T160156Z
LAST-MODIFIED:20200806T172031Z
UID:2231-1598986800-1599856200@fireschoolusa.com
SUMMARY:EN LINEA - Telecomunicador de Seguridad Publica I - NFPA 1061
DESCRIPTION:Esta actividad está diseñada para que los participantes sean capaces de aplicar sus destrezas como operadores de Telecomunicaciones de Emergencias\, obteniendo la certificación mediante la demostración de las competencias mínimas establecidas en conformidad con la norma NFPA 1061 “Public Safety Telecommunications Personnel Professional Qualifications”\, para el rol de Operador de Telecomunicaciones de Seguridad Pública\, Nivel I.
URL:https://fireschoolusa.com/event/en-linea-telecomunicador-de-seguridad-publica-i-nfpa-1061/
LOCATION:SHA Latinoamerica\, Calle Elias Aguirre 180 Miraflores\, Lima\, Lima\, 15056\, Perú
ATTACH;FMTTYPE=image/png:https://fireschoolusa.com/wp-content/uploads/2020/08/Diseño-sin-título-2.png
END:VEVENT
BEGIN:VEVENT
DTSTART;TZID=America/New_York:20200825T190000
DTEND;TZID=America/New_York:20200829T213000
DTSTAMP:20260425T111411
CREATED:20200811T180417Z
LAST-MODIFIED:20200812T213239Z
UID:2246-1598382000-1598736600@fireschoolusa.com
SUMMARY:EN LINEA - Rescate en Espacios Confinados - Nivel Conciencia - NFPA 1006/1670
DESCRIPTION:En este curso \, los estudiantes podrán reconocer un incidente de espacios confinados y establecer una solicitud de apoyo técnico\, realizando las primeras transferencias de información a un equipo de respuesta nivel operaciones y al sistema de gestión local de comunicaciones\, según los requerimientos de las normas NFPA 1600 y NFPA 1670.
URL:https://fireschoolusa.com/event/rescate-en-espacios-confinados-nivel-conciencia/
LOCATION:Fire School Chile by CEMEC\, Libertador Bernardo O'Higgins 1031\, Rancagua\, O'Higgins\, Chile
ATTACH;FMTTYPE=image/jpeg:https://fireschoolusa.com/wp-content/uploads/2020/08/Arco-Confined-Spaces-rescue.jpg
ORGANIZER;CN="Fire School Chile by CEMEC":MAILTO:contacto@fireschool.cl
END:VEVENT
BEGIN:VEVENT
DTSTART;TZID=America/New_York:20200824T190000
DTEND;TZID=America/New_York:20200828T213000
DTSTAMP:20260425T111411
CREATED:20200806T151009Z
LAST-MODIFIED:20200806T154852Z
UID:2204-1598295600-1598650200@fireschoolusa.com
SUMMARY:EN LINEA - Oficial de Control de Infecciones - NFPA 1581
DESCRIPTION:Durante el desarrollo de este curso\, obtendrá los conocimientos necesarios para el ejercicio como Oficial de Control de Infecciones y para preparar\, planificar\, desarrollar\, implementar y fiscalizar un programa de Control de Infecciones\, a fin de proteger al personal ante exposiciones infecciosas potenciales\, capaces de generar lesiones o enfermedades ocupacionales. \nDesafortunadamente\, los primeros respondedores\, tales como bomberos\, EMT’s\, paramédicos\, brigadistas de la industria y policías son los más expuestos ante todo tipo de agentes y\, ciertamente\, las enfermedades infecciosas\, como la enfermedad del Coronavirus (COVID-19)\, no son la excepción.\nAdemás\, aprenderá sobre una amplia gama de enfermedades infecciosas y cómo prevenirlas.
URL:https://fireschoolusa.com/event/ipo/
LOCATION:Fire School Chile by CEMEC\, Libertador Bernardo O'Higgins 1031\, Rancagua\, O'Higgins\, Chile
ATTACH;FMTTYPE=image/png:https://fireschoolusa.com/wp-content/uploads/2020/08/Diseño-sin-título-5.png
ORGANIZER;CN="Fire School Chile by CEMEC":MAILTO:contacto@fireschool.cl
END:VEVENT
END:VCALENDAR